BEGIN:VCALENDAR
VERSION:2.0
PRODID:-//Cape Cod Cannabis Recreational Dispensary in Wellfleet, MA - ECPv6.15.17.1//NONSGML v1.0//EN
CALSCALE:GREGORIAN
METHOD:PUBLISH
X-WR-CALNAME:Cape Cod Cannabis Recreational Dispensary in Wellfleet, MA
X-ORIGINAL-URL:https://capecodcannabis.com
X-WR-CALDESC:Events for Cape Cod Cannabis Recreational Dispensary in Wellfleet, MA
REFRESH-INTERVAL;VALUE=DURATION:PT1H
X-Robots-Tag:noindex
X-PUBLISHED-TTL:PT1H
BEGIN:VTIMEZONE
TZID:America/New_York
BEGIN:DAYLIGHT
TZOFFSETFROM:-0500
TZOFFSETTO:-0400
TZNAME:EDT
DTSTART:20230312T070000
END:DAYLIGHT
BEGIN:STANDARD
TZOFFSETFROM:-0400
TZOFFSETTO:-0500
TZNAME:EST
DTSTART:20231105T060000
END:STANDARD
BEGIN:DAYLIGHT
TZOFFSETFROM:-0500
TZOFFSETTO:-0400
TZNAME:EDT
DTSTART:20240310T070000
END:DAYLIGHT
BEGIN:STANDARD
TZOFFSETFROM:-0400
TZOFFSETTO:-0500
TZNAME:EST
DTSTART:20241103T060000
END:STANDARD
BEGIN:DAYLIGHT
TZOFFSETFROM:-0500
TZOFFSETTO:-0400
TZNAME:EDT
DTSTART:20250309T070000
END:DAYLIGHT
BEGIN:STANDARD
TZOFFSETFROM:-0400
TZOFFSETTO:-0500
TZNAME:EST
DTSTART:20251102T060000
END:STANDARD
END:VTIMEZONE
BEGIN:VEVENT
DTSTART;TZID=America/New_York:20240913T140000
DTEND;TZID=America/New_York:20240913T170000
DTSTAMP:20260419T165712
CREATED:20240730T141734Z
LAST-MODIFIED:20240920T164141Z
UID:102462-1726236000-1726246800@capecodcannabis.com
SUMMARY:Strane Pop-Up
DESCRIPTION:Learn more about Strane\, Garcia Hand Picked\, Hellavated\, and Do Drops brands and enjoy some of their non-infused samples! \n  \n\nStrane – Strane can be found in so many places and form factors and it all starts with the unique cultivars cannabis customers and budtenders love. Nature and nurture\, Strane showcases our skill at growing craft cannabis at scale.\n\n  \n\nGarcia Hand Picked – Trixie Garcia brainstormed with the team when we chose the name “hand picked”. Ever since we have collaborated with Garcia’s family to choose the strains\, products\, packages\, merch\, events\, and charities worthy of a legend. It’s the most authentic and successful celebrity brand in the making.\n\n  \n\nHellavated – First introduced in Oregon\, Hellavated and its flavor-forward\, potent line of products are now growing quickly across our markets. Customers love the well-priced vapes\, edibles and joints with fun flavors like Bomb Popz\, Mango Dragon\, and OG Mint.\n\n  \n\nDo Drops – Introducing new DO Drops\, the edible with all the feels including Relax\, Focus\, Sleep\, Energy\, Relief and Mild. DO Drops have been reformulated to meet the customer where they are with balanced cannabis ratios\, enhancing effects\, and transcendent flavors.\n\n  \n  \nClick here to shop Strane products! \n  \nClick here to shop Garcia Hand Picked products! \n  \nClick here to shop Hellavated products! \n  \nClick here to shop Do Drops products! \n  \n 
URL:https://capecodcannabis.com/event/strane-garcia-hand-picked-hellavated-do-drops-pop-up/
LOCATION:Cape Cod Cannabis\, 1446 US-6\, Wellfleet\, MA\, 02667\, United States
CATEGORIES:Pop-Ups
ATTACH;FMTTYPE=image/jpeg:https://capecodcannabis.com/wp-content/uploads/2024/03/strane_logo_200px.jpg
END:VEVENT
END:VCALENDAR