BEGIN:VCALENDAR
VERSION:2.0
PRODID:-//Cape Cod Cannabis Recreational Dispensary in Wellfleet, MA - ECPv6.15.20//NONSGML v1.0//EN
CALSCALE:GREGORIAN
METHOD:PUBLISH
X-ORIGINAL-URL:https://capecodcannabis.com
X-WR-CALDESC:Events for Cape Cod Cannabis Recreational Dispensary in Wellfleet, MA
REFRESH-INTERVAL;VALUE=DURATION:PT1H
X-Robots-Tag:noindex
X-PUBLISHED-TTL:PT1H
BEGIN:VTIMEZONE
TZID:America/New_York
BEGIN:DAYLIGHT
TZOFFSETFROM:-0500
TZOFFSETTO:-0400
TZNAME:EDT
DTSTART:20230312T070000
END:DAYLIGHT
BEGIN:STANDARD
TZOFFSETFROM:-0400
TZOFFSETTO:-0500
TZNAME:EST
DTSTART:20231105T060000
END:STANDARD
BEGIN:DAYLIGHT
TZOFFSETFROM:-0500
TZOFFSETTO:-0400
TZNAME:EDT
DTSTART:20240310T070000
END:DAYLIGHT
BEGIN:STANDARD
TZOFFSETFROM:-0400
TZOFFSETTO:-0500
TZNAME:EST
DTSTART:20241103T060000
END:STANDARD
BEGIN:DAYLIGHT
TZOFFSETFROM:-0500
TZOFFSETTO:-0400
TZNAME:EDT
DTSTART:20250309T070000
END:DAYLIGHT
BEGIN:STANDARD
TZOFFSETFROM:-0400
TZOFFSETTO:-0500
TZNAME:EST
DTSTART:20251102T060000
END:STANDARD
END:VTIMEZONE
BEGIN:VEVENT
DTSTART;TZID=America/New_York:20240712T150000
DTEND;TZID=America/New_York:20240712T170000
DTSTAMP:20260423T042942
CREATED:20240515T200256Z
LAST-MODIFIED:20240607T162333Z
UID:93192-1720796400-1720803600@capecodcannabis.com
SUMMARY:Kosmik\, Cultivators Classic and Uncut Pop-Up
DESCRIPTION:Join us for the Regenerative\, LLC Pop-Up event to learn more about Kosmik\, Cultivators Classic (CClassic) and Uncut brands and their products offered such as gummies\, concentrates\, vapes and more.\n  \nRegenerative\, LLC\nThe name Regenerative stems from the pursuit of growing in true living soil also known as regenerative farming. As a result\, the difference in the quality of their product cannot be understated – the combination of organic practices\, sun-grown\, and directly in soil is truly the way cannabis was meant to be grown. \n  \n\n \n  \n  \n  \nClick here to shop Kosmik products! \n  \nClick here to shop Cultivators Classic products! \n  \nClick here to shop Uncut products! \n 
URL:https://capecodcannabis.com/event/kosmik-cultivators-classic-and-uncut-pop-up-2/
LOCATION:Cape Cod Cannabis\, 1446 US-6\, Wellfleet\, MA\, 02667\, United States
CATEGORIES:Pop-Ups
ATTACH;FMTTYPE=image/png:https://capecodcannabis.com/wp-content/uploads/2024/05/Regenerative-Logo_200px.png
END:VEVENT
BEGIN:VEVENT
DTSTART;TZID=America/New_York:20240713T120000
DTEND;TZID=America/New_York:20240713T140000
DTSTAMP:20260423T042942
CREATED:20240624T161257Z
LAST-MODIFIED:20240625T133624Z
UID:98986-1720872000-1720879200@capecodcannabis.com
SUMMARY:CANN Pop-Up
DESCRIPTION:Learn more about CANN products and enjoy some of their non-infused\, bubbly and delicious social tonics! \n  \n\nHighly social – Microdosed for the perfect effect\nHangover free – No painful days after drinking or regrets\nAward-winning flavors – Lemon from Sicily\, Yuzu from Japan\, you get it…no cutting corners\n\n  \nDRINKABLE\, DELICIOUS CANNABIS THAT’S AS BUBBLY\, REFRESHING\, AND SOCIABLE AS YOUR FAVORITE COCKTAIL\, BUT HOLD THE BOOZE – AND THE HANGOVER. \n  \nClick here to shop CANN products! \n 
URL:https://capecodcannabis.com/event/cann-pop-up-2/
LOCATION:Cape Cod Cannabis\, 1446 US-6\, Wellfleet\, MA\, 02667\, United States
CATEGORIES:Pop-Ups
ATTACH;FMTTYPE=image/png:https://capecodcannabis.com/wp-content/uploads/2023/07/Cann-200px.png
END:VEVENT
BEGIN:VEVENT
DTSTART;TZID=America/New_York:20240719T150000
DTEND;TZID=America/New_York:20240719T180000
DTSTAMP:20260423T042942
CREATED:20230719T141527Z
LAST-MODIFIED:20240708T201619Z
UID:55036-1721401200-1721412000@capecodcannabis.com
SUMMARY:Chill Medicated Pop-Up
DESCRIPTION:Learn more about Chill Medicated topical and tincture products\, and the potential benefits.\n  \nLet’s face it\, we all have our issues. Providing you with reliable relief so that you can live your best life is what we’re really here to do\, that’s why Chill chooses you. Being able to do something you are passionate about is something that not many individuals get the chance to do; making it that much easier for us to prioritize quality and consistency. \n  \nFind reliable relief where it matters most. Pain may be inevitable but suffering is not! Their topical is non-transdermal\, meaning it does not get you high\, making it the perfect fit for all day use in any environment. \n  \nRecommended Uses: Muscle Soreness\, Pain\, Tension\, Stress\, Inflammation\, Cramping\, Skin Conditions\, Muscle Strain\, Arthritis\, Nerve Damage\, Nausea\, Psoriasis\, Dermatitis\, Headaches\, Migraines\, Sunburns\, Scar Tissue Repair and more. \n  \nSearching for the perfect complement to your favorite beverage? Look no further. Take one teaspoon and ingest under the tongue or dilute with your choice of soda\, water\, or other beverages. You can also add it to your favorite ice cream or your favorite meal! \n  \nClick here to view Chill Medicated products! \n 
URL:https://capecodcannabis.com/event/chill-medicated-pop-up/
LOCATION:Cape Cod Cannabis\, 1446 US-6\, Wellfleet\, MA\, 02667\, United States
CATEGORIES:Pop-Ups
ATTACH;FMTTYPE=image/png:https://capecodcannabis.com/wp-content/uploads/2023/07/Chill-200px-2.png
END:VEVENT
BEGIN:VEVENT
DTSTART;TZID=America/New_York:20240727T150000
DTEND;TZID=America/New_York:20240727T170000
DTSTAMP:20260423T042942
CREATED:20240515T200414Z
LAST-MODIFIED:20240905T142349Z
UID:93194-1722092400-1722099600@capecodcannabis.com
SUMMARY:Kosmik\, Cultivators Classic and Uncut Pop-Up
DESCRIPTION:Join us for the Regenerative\, LLC Pop-Up event to learn more about Kosmik\, Cultivators Classic (CClassic) and Uncut brands and their products offered such as gummies\, concentrates\, vapes and more.\n  \nRegenerative\, LLC\nThe name Regenerative stems from the pursuit of growing in true living soil also known as regenerative farming. As a result\, the difference in the quality of their product cannot be understated – the combination of organic practices\, sun-grown\, and directly in soil is truly the way cannabis was meant to be grown. \n  \n\n \n  \n  \n  \nClick here to shop Kosmik products! \n  \nClick here to shop Cultivators Classic products! \n  \nClick here to shop Uncut products!
URL:https://capecodcannabis.com/event/komik-classic-cultivators-and-uncut-pop-up/
LOCATION:Cape Cod Cannabis\, 1446 US-6\, Wellfleet\, MA\, 02667\, United States
CATEGORIES:Pop-Ups
ATTACH;FMTTYPE=image/png:https://capecodcannabis.com/wp-content/uploads/2024/05/Regenerative-Logo_200px.png
END:VEVENT
END:VCALENDAR