BEGIN:VCALENDAR
VERSION:2.0
PRODID:-//Cape Cod Cannabis Recreational Dispensary in Wellfleet, MA - ECPv6.15.17.1//NONSGML v1.0//EN
CALSCALE:GREGORIAN
METHOD:PUBLISH
X-WR-CALNAME:Cape Cod Cannabis Recreational Dispensary in Wellfleet, MA
X-ORIGINAL-URL:https://capecodcannabis.com
X-WR-CALDESC:Events for Cape Cod Cannabis Recreational Dispensary in Wellfleet, MA
REFRESH-INTERVAL;VALUE=DURATION:PT1H
X-Robots-Tag:noindex
X-PUBLISHED-TTL:PT1H
BEGIN:VTIMEZONE
TZID:America/New_York
BEGIN:DAYLIGHT
TZOFFSETFROM:-0500
TZOFFSETTO:-0400
TZNAME:EDT
DTSTART:20230312T070000
END:DAYLIGHT
BEGIN:STANDARD
TZOFFSETFROM:-0400
TZOFFSETTO:-0500
TZNAME:EST
DTSTART:20231105T060000
END:STANDARD
BEGIN:DAYLIGHT
TZOFFSETFROM:-0500
TZOFFSETTO:-0400
TZNAME:EDT
DTSTART:20240310T070000
END:DAYLIGHT
BEGIN:STANDARD
TZOFFSETFROM:-0400
TZOFFSETTO:-0500
TZNAME:EST
DTSTART:20241103T060000
END:STANDARD
BEGIN:DAYLIGHT
TZOFFSETFROM:-0500
TZOFFSETTO:-0400
TZNAME:EDT
DTSTART:20250309T070000
END:DAYLIGHT
BEGIN:STANDARD
TZOFFSETFROM:-0400
TZOFFSETTO:-0500
TZNAME:EST
DTSTART:20251102T060000
END:STANDARD
END:VTIMEZONE
BEGIN:VEVENT
DTSTART;TZID=America/New_York:20240809T140000
DTEND;TZID=America/New_York:20240809T170000
DTSTAMP:20260422T163602
CREATED:20240319T212025Z
LAST-MODIFIED:20240809T193331Z
UID:87730-1723212000-1723222800@capecodcannabis.com
SUMMARY:Strane Pop-Up
DESCRIPTION:  \nLearn more about the Strane brand and what they offer such as Flower\, Disposables\, Vaporizers\, Pre-Rolls! \n  \n\nStrane – Strane can be found in so many places and form factors and it all starts with the unique cultivars cannabis customers and budtenders love. Nature and nurture\, Strane showcases our skill at growing craft cannabis at scale.\n\n  \n    \n  \n  \n  \nClick here to shop Strane products! \n  \n 
URL:https://capecodcannabis.com/event/strane-garcia-hellavated-do-drops-pop-up/
LOCATION:Cape Cod Cannabis\, 1446 US-6\, Wellfleet\, MA\, 02667\, United States
CATEGORIES:Pop-Ups
ATTACH;FMTTYPE=image/jpeg:https://capecodcannabis.com/wp-content/uploads/2024/03/strane_logo_200px.jpg
END:VEVENT
BEGIN:VEVENT
DTSTART;TZID=America/New_York:20240823T160000
DTEND;TZID=America/New_York:20240823T190000
DTSTAMP:20260422T163602
CREATED:20240815T212242Z
LAST-MODIFIED:20250508T180204Z
UID:103829-1724428800-1724439600@capecodcannabis.com
SUMMARY:Jeeter Hookup Day Event
DESCRIPTION:Learn more about your favorite brand. Our exclusive unreleased Jeeter 1G promotion will be available ONLY during Jeeter hook-up days. \n  \nMake sure to mark your calendars for Friday August 23\, 2024 from 4 pm to 7 pm at Cape Cod Cannabis to gain access to the current mystery hook-up day strain. \n  \n \n\n\nGet ready for your Jeeter hook up!\n  \nClick here to shop Jeeter Products! \n  \nClick here to shop Jeeter Infused Pre-Roll Bundles! \n  \n 
URL:https://capecodcannabis.com/event/jeeter-hookup-day-event/
LOCATION:Cape Cod Cannabis\, 1446 US-6\, Wellfleet\, MA\, 02667\, United States
CATEGORIES:Pop-Ups
ATTACH;FMTTYPE=image/jpeg:https://capecodcannabis.com/wp-content/uploads/2024/08/Jeeter_HUD_200px.jpg
END:VEVENT
BEGIN:VEVENT
DTSTART;TZID=America/New_York:20240830T160000
DTEND;TZID=America/New_York:20240830T190000
DTSTAMP:20260422T163602
CREATED:20240812T205813Z
LAST-MODIFIED:20250508T180151Z
UID:103364-1725033600-1725044400@capecodcannabis.com
SUMMARY:Sparq Pop-Up
DESCRIPTION:Learn more about Sparq Cannabis Co. products (Flower\, Pre-Rolls\, Infused Pre-Rolls\, Carts\, Gummies\, Moonrocks\, THC infused Toothpicks) and enjoy some merch swag and giveaways (+Kushy Punch and MKX merch)! \n  \nSPARQ is built around the idea of finding your purpose and Sparq in this world. \nWe believe that everyone has a unique calling and a reason for being here\, and it is our mission to help people discover and pursue that purpose. \n  \nClick here to shop Sparq Cannabis Co. products! \n 
URL:https://capecodcannabis.com/event/sparq-pop-up/
LOCATION:Cape Cod Cannabis\, 1446 US-6\, Wellfleet\, MA\, 02667\, United States
CATEGORIES:Pop-Ups
ATTACH;FMTTYPE=image/jpeg:https://capecodcannabis.com/wp-content/uploads/2024/08/sparq_logo.jpg
END:VEVENT
END:VCALENDAR