BEGIN:VCALENDAR
VERSION:2.0
PRODID:-//Cape Cod Cannabis Recreational Dispensary in Wellfleet, MA - ECPv6.15.17.1//NONSGML v1.0//EN
CALSCALE:GREGORIAN
METHOD:PUBLISH
X-ORIGINAL-URL:https://capecodcannabis.com
X-WR-CALDESC:Events for Cape Cod Cannabis Recreational Dispensary in Wellfleet, MA
REFRESH-INTERVAL;VALUE=DURATION:PT1H
X-Robots-Tag:noindex
X-PUBLISHED-TTL:PT1H
BEGIN:VTIMEZONE
TZID:America/New_York
BEGIN:DAYLIGHT
TZOFFSETFROM:-0500
TZOFFSETTO:-0400
TZNAME:EDT
DTSTART:20240310T070000
END:DAYLIGHT
BEGIN:STANDARD
TZOFFSETFROM:-0400
TZOFFSETTO:-0500
TZNAME:EST
DTSTART:20241103T060000
END:STANDARD
BEGIN:DAYLIGHT
TZOFFSETFROM:-0500
TZOFFSETTO:-0400
TZNAME:EDT
DTSTART:20250309T070000
END:DAYLIGHT
BEGIN:STANDARD
TZOFFSETFROM:-0400
TZOFFSETTO:-0500
TZNAME:EST
DTSTART:20251102T060000
END:STANDARD
BEGIN:DAYLIGHT
TZOFFSETFROM:-0500
TZOFFSETTO:-0400
TZNAME:EDT
DTSTART:20260308T070000
END:DAYLIGHT
BEGIN:STANDARD
TZOFFSETFROM:-0400
TZOFFSETTO:-0500
TZNAME:EST
DTSTART:20261101T060000
END:STANDARD
END:VTIMEZONE
BEGIN:VEVENT
DTSTART;TZID=America/New_York:20250809T160000
DTEND;TZID=America/New_York:20250809T190000
DTSTAMP:20260419T200905
CREATED:20250801T152252Z
LAST-MODIFIED:20250804T150338Z
UID:143201-1754755200-1754766000@capecodcannabis.com
SUMMARY:Northern Grown / Fog Cutter Pop-Up
DESCRIPTION:Learn more about Northern Grown’s “Fog Cutter” products and cut through the haze with Fog Cutter Infused Pre-Rolls. Packed with 100% hydroponic flower.\n  \nNorthern Grown’s “Fog Cutter” infused pre-rolls are a line of products known for their high-potency\, bold flavors\, and emphasis on quality and affordability.  \n  \n  \nClick to shop Northern Grown / Fog Cutter products!
URL:https://capecodcannabis.com/event/fog-cutter-pop-up/
LOCATION:Cape Cod Cannabis\, 1446 US-6\, Wellfleet\, MA\, 02667\, United States
CATEGORIES:Pop-Ups
ATTACH;FMTTYPE=image/png:https://capecodcannabis.com/wp-content/uploads/2025/08/Northern_Grown_Logo_200x200.png
END:VEVENT
BEGIN:VEVENT
DTSTART;TZID=America/New_York:20250815T160000
DTEND;TZID=America/New_York:20250815T180000
DTSTAMP:20260419T200905
CREATED:20250807T174009Z
LAST-MODIFIED:20250807T182226Z
UID:144147-1755273600-1755280800@capecodcannabis.com
SUMMARY:Strane\, Garcia Hand Picked\, Hellavated & Do Drops Pop-Up Event
DESCRIPTION:Learn more about Holistic brand products including Strane\, Garcia Hand Picked\, Hellavated\, Do Drops and more that offer great products\, such as Flower\, Pre-Rolls\, Carts\, Edibles and Dispos! \nAs ‘champions of the plant’\, they are truly passionate about providing consistently high-quality products that customers want and retail experiences that authentically connect with our loyal customers. \n  \n \n  \nClick here to shop Strane products! \nClick here to shop Garcia Hand Picked products! \nClick here to shop Hellavated products! \n 
URL:https://capecodcannabis.com/event/strane-garcia-hand-picked-hellavated-do-drops-pop-up-event/
LOCATION:Cape Cod Cannabis\, 1446 US-6\, Wellfleet\, MA\, 02667\, United States
CATEGORIES:Pop-Ups
ATTACH;FMTTYPE=image/png:https://capecodcannabis.com/wp-content/uploads/2024/03/CCC-generic-pop-up-logo_200px.png
END:VEVENT
BEGIN:VEVENT
DTSTART;TZID=America/New_York:20250823T160000
DTEND;TZID=America/New_York:20250823T190000
DTSTAMP:20260419T200905
CREATED:20250804T145940Z
LAST-MODIFIED:20250804T150253Z
UID:143214-1755964800-1755975600@capecodcannabis.com
SUMMARY:Northern Grown / Fog Cutter Pop-Up
DESCRIPTION:Learn more about Northern Grown’s “Fog Cutter” products and cut through the haze with Fog Cutter Infused Pre-Rolls. Packed with 100% hydroponic flower.\n  \nNorthern Grown’s “Fog Cutter” infused pre-rolls are a line of products known for their high-potency\, bold flavors\, and emphasis on quality and affordability.  \n  \n  \nClick to shop Northern Grown / Fog Cutter products!
URL:https://capecodcannabis.com/event/fog-cutter-pop-up-2/
LOCATION:Cape Cod Cannabis\, 1446 US-6\, Wellfleet\, MA\, 02667\, United States
CATEGORIES:Pop-Ups
ATTACH;FMTTYPE=image/png:https://capecodcannabis.com/wp-content/uploads/2025/08/Northern_Grown_Logo_200x200.png
END:VEVENT
END:VCALENDAR